BEGIN:VCALENDAR
VERSION:2.0
PRODID:-//Fedco International - ECPv6.15.20//NONSGML v1.0//EN
CALSCALE:GREGORIAN
METHOD:PUBLISH
X-ORIGINAL-URL:https://fedco.co.id
X-WR-CALDESC:Events for Fedco International
REFRESH-INTERVAL;VALUE=DURATION:PT1H
X-Robots-Tag:noindex
X-PUBLISHED-TTL:PT1H
BEGIN:VTIMEZONE
TZID:UTC
BEGIN:STANDARD
TZOFFSETFROM:+0000
TZOFFSETTO:+0000
TZNAME:UTC
DTSTART:20220101T000000
END:STANDARD
END:VTIMEZONE
BEGIN:VEVENT
DTSTART;VALUE=DATE:20231002
DTEND;VALUE=DATE:20231007
DTSTAMP:20260425T144220
CREATED:20230603T061515Z
LAST-MODIFIED:20230603T061515Z
UID:5637-1696204800-1696636799@fedco.co.id
SUMMARY:ICS/OT Cyber Security Awareness Week
DESCRIPTION:Our ICS/OT Cyber Security Awareness Week is held in the first week of each 2 months. The course delivery is online or on-site (for on-site course delivery\, kindly please contact us for special arrangements).  \nICS/OT Cyber Security Awareness course is the starting milestone in the ICS/OT Cyber Security Assurance journey. Basic course level for all staff\, managers\, leaders\, and personnel in any Critical Infrastructure industry to leverage security awareness and to build the mindset as part of security culture development\, in the ICS/OT domain. \nThis course covers the fundamental understanding and conceptual practice of ICS/OT Cyber Security to build people’s mindsets\, reshape their knowledge\, and develop the security culture within the ICS/OT domain.
URL:https://fedco.co.id/event/ics-ot-cyber-security-awareness-week-8/
LOCATION:Online Course
CATEGORIES:training
ORGANIZER;CN="Fedco International":MAILTO:fedco@fedco.co.id
END:VEVENT
END:VCALENDAR