BEGIN:VCALENDAR
VERSION:2.0
PRODID:-//Fedco International - ECPv6.15.20//NONSGML v1.0//EN
CALSCALE:GREGORIAN
METHOD:PUBLISH
X-WR-CALNAME:Fedco International
X-ORIGINAL-URL:https://fedco.co.id
X-WR-CALDESC:Events for Fedco International
REFRESH-INTERVAL;VALUE=DURATION:PT1H
X-Robots-Tag:noindex
X-PUBLISHED-TTL:PT1H
BEGIN:VTIMEZONE
TZID:UTC
BEGIN:STANDARD
TZOFFSETFROM:+0000
TZOFFSETTO:+0000
TZNAME:UTC
DTSTART:20240101T000000
END:STANDARD
END:VTIMEZONE
BEGIN:VEVENT
DTSTART;VALUE=DATE:20251215
DTEND;VALUE=DATE:20251220
DTSTAMP:20260423T160659
CREATED:20230228T111904Z
LAST-MODIFIED:20260413T085918Z
UID:5552-1765756800-1766188799@fedco.co.id
SUMMARY:ICS Cyber Security Assurance
DESCRIPTION:The ISA/IEC 62443 series is the well-known set of guidelines for the ICS OT cybersecurity standard. The convergence of IT and OT environments increases the cybersecurity threats that can jeopardise the safety operations and business continuity. The ICS OT cybersecurity assurance shall be managed throughout all phases of the facility’s life cycle\, from the design phase to the decommissioning phase. \nThis course provides the fundamental understanding of the ISA/IEC 62443 series in an integrated learning curve\, based on a customised case study\, and provides an in-depth training experience to equip the participant with strong theoretical knowledge and hands-on skills. \nThis 2-day course with 8 core sessions (7 class sessions + 1 workshop session) brings to you the key concepts of the ISA/IEC 62443 integrated with the case study workshop (Risk Assessment using ISA/IEC 624433-2) and introduction to Security Level requirements (based on ISA/IEC 62443-3-3) to enable cybersecurity professionals with the capability to implement certain ISA/IEC 62443 series into their working environment as the role model of ICS OT cybersecurity assurance implementor. \n7 Class Sessions with integrated materials covering the essentials concept of ICS/OT Cybersecurity\, an overview of the ISA/IEC 62443 standard series\, security levels and compliance framework\, developing the ICS/OT cybersecurity program\, and how to perform risk assessment using ISA/IEC 62443. \n1 Workshop Session with a customised case study exploring the actual implementation of Risk Assessment using IEC 62443-3-2\, defining Zone and Conduit\, performing High Level Risk Assessment\, exploring Detailed Risk Assessment with vulnerabilities\, threats\, risk analysis\, and security controls formulation (CRS). \n  \n 
URL:https://fedco.co.id/event/ics-cyber-security-assurance-6/
LOCATION:Bandung\, Indonesia\, Bandung\, Indonesia
CATEGORIES:training
ORGANIZER;CN="Fedco International":MAILTO:fedco@fedco.co.id
END:VEVENT
END:VCALENDAR