BEGIN:VCALENDAR
VERSION:2.0
PRODID:-//Fedco International - ECPv6.15.20//NONSGML v1.0//EN
CALSCALE:GREGORIAN
METHOD:PUBLISH
X-WR-CALNAME:Fedco International
X-ORIGINAL-URL:https://fedco.co.id
X-WR-CALDESC:Events for Fedco International
REFRESH-INTERVAL;VALUE=DURATION:PT1H
X-Robots-Tag:noindex
X-PUBLISHED-TTL:PT1H
BEGIN:VTIMEZONE
TZID:UTC
BEGIN:STANDARD
TZOFFSETFROM:+0000
TZOFFSETTO:+0000
TZNAME:UTC
DTSTART:20250101T000000
END:STANDARD
END:VTIMEZONE
BEGIN:VEVENT
DTSTART;VALUE=DATE:20260602
DTEND;VALUE=DATE:20260603
DTSTAMP:20260422T010029
CREATED:20260413T093617Z
LAST-MODIFIED:20260413T095247Z
UID:6199-1780358400-1780444799@fedco.co.id
SUMMARY:ICS OT Cyber Security Awareness
DESCRIPTION:Our ICS/OT Cyber Security Awareness course is held in the first week of the month. The course is delivered online or on-site (for on-site course delivery\, kindly contact us for special arrangements).  \nICS/OT Cyber Security Awareness course is the starting milestone in the ICS/OT Cyber Security Assurance journey. Basic course level for all staff\, managers\, leaders\, and personnel in any Critical Infrastructure industry to leverage security awareness and to build the mindset as part of security culture development\, in the ICS/OT domain. \nThe course covers the fundamental understanding and conceptual practice of ICS/OT Cyber Security to build people’s mindsets\, reshape their knowledge\, and develop the security culture within the ICS/OT domain.
URL:https://fedco.co.id/event/ics-ot-cyber-security-awareness/
LOCATION:Online Course
CATEGORIES:training
ORGANIZER;CN="Fedco International":MAILTO:fedco@fedco.co.id
END:VEVENT
BEGIN:VEVENT
DTSTART;VALUE=DATE:20260603
DTEND;VALUE=DATE:20260605
DTSTAMP:20260422T010029
CREATED:20260413T090440Z
LAST-MODIFIED:20260413T090440Z
UID:6192-1780444800-1780617599@fedco.co.id
SUMMARY:The Fundamentals of ISA IEC 62443 Course
DESCRIPTION:The ISA/IEC 62443 series is the well-known set of guidelines for the ICS OT cybersecurity standard. The convergence of IT and OT environments increases the cybersecurity threats that can jeopardise the safety operations and business continuity. The ICS OT cybersecurity assurance shall be managed throughout all phases of the facility’s life cycle\, from the design phase to the decommissioning phase. \nThis course provides the fundamental understanding of the ISA/IEC 62443 series in an integrated learning curve\, based on a customised case study\, and provides an in-depth training experience to equip the participant with strong theoretical knowledge and hands-on skills. \nThis 2-day course with 8 core sessions (7 class sessions + 1 workshop session) brings to you the key concepts of the ISA/IEC 62443 integrated with the case study workshop (Risk Assessment using ISA/IEC 624433-2) and introduction to Security Level requirements (based on ISA/IEC 62443-3-3) to enable cybersecurity professionals with the capability to implement certain ISA/IEC 62443 series into their working environment as the role model of ICS OT cybersecurity assurance implementor. \n7 Class Sessions with integrated materials covering the essentials concept of ICS/OT Cybersecurity\, an overview of the ISA/IEC 62443 standard series\, security levels and compliance framework\, developing the ICS/OT cybersecurity program\, and how to perform risk assessment using ISA/IEC 62443. \n1 Workshop Session with a customised case study exploring the actual implementation of Risk Assessment using IEC 62443-3-2\, defining Zone and Conduit\, performing High Level Risk Assessment\, exploring Detailed Risk Assessment with vulnerabilities\, threats\, risk analysis\, and security controls formulation (CRS). \n  \n 
URL:https://fedco.co.id/event/the-fundamentals-of-isa-iec-62443-and-risk-assessment-course/
LOCATION:BSD City\, South Tangerang\, Banten – Indonesia\, South Tangerang\, Banten\, Indonesia
CATEGORIES:training
ORGANIZER;CN="Fedco International":MAILTO:fedco@fedco.co.id
END:VEVENT
BEGIN:VEVENT
DTSTART;VALUE=DATE:20260608
DTEND;VALUE=DATE:20260613
DTSTAMP:20260422T010029
CREATED:20220315T092140Z
LAST-MODIFIED:20260407T045611Z
UID:5317-1780876800-1781308799@fedco.co.id
SUMMARY:ICS Cyber Security Management System
DESCRIPTION:This course covers the fundamental of IT security engineering combined with ICS engineering as the basic approach. The familiarization of cyber security engineering combined with case study analysis and real case examples. At the top-level materials\, the cyber security management system as the core philosophy of having a secure ICS environment will give a deeper understanding of ICS security in the integrated approach. Workshop lab sessions will be held to strengthen the applicable skills and knowledge by practicing the fundamental of Risk Assessment\, Fundamental of Vulnerability Assessment\, System Security Assessment\, and analyzing the security report in order to develop the security strategy program.
URL:https://fedco.co.id/event/ics-cyber-security-management-system-4/
LOCATION:BSD City\, South Tangerang\, Banten – Indonesia\, South Tangerang\, Banten\, Indonesia
CATEGORIES:training
ORGANIZER;CN="Fedco International":MAILTO:fedco@fedco.co.id
END:VEVENT
BEGIN:VEVENT
DTSTART;VALUE=DATE:20260622
DTEND;VALUE=DATE:20260627
DTSTAMP:20260422T010029
CREATED:20220315T093913Z
LAST-MODIFIED:20260407T045605Z
UID:5335-1782086400-1782518399@fedco.co.id
SUMMARY:ICS Cyber Security Assurance
DESCRIPTION:The course integrates the body of knowledge in four disciplines (IT\, ICS\, Cyber Security\, and ICS Cyber Security Engineering) with ICS Cyber Security Risk Assessment and ICS Cyber Security Audit as the Grand Workshop using emulation environment and Testbed in order to bring the new learning experience through Offline or Online Arrangement as part of the professional milestone to develop the next ICS Cyber Security Professional. \n3 Days Class Session with integrated materials to blend the essential knowledge and skills to cover the four major engineering disciplines that build the ICS Cyber Security Assurance (IT\, ICS\, Cyber Security\, and ICS Cyber Security Engineering). \n2 Days LAB and WORKSHOP with DIY LAB on your computing device by using emulated software and VM to build your own assessment object and explore the TESTBED system to complete the WORKSHOP by assessing the real-time Automation Control entities (PLC and remote PLC with Modbus TCP and Serial Communication). \n 
URL:https://fedco.co.id/event/ics-cyber-security-assurance-3/
LOCATION:BSD City\, South Tangerang\, Banten – Indonesia\, South Tangerang\, Banten\, Indonesia
CATEGORIES:training
ORGANIZER;CN="Fedco International":MAILTO:fedco@fedco.co.id
END:VEVENT
BEGIN:VEVENT
DTSTART;VALUE=DATE:20260907
DTEND;VALUE=DATE:20260908
DTSTAMP:20260422T010029
CREATED:20220315T092805Z
LAST-MODIFIED:20260413T095243Z
UID:5321-1788739200-1788825599@fedco.co.id
SUMMARY:ICS OT Cyber Security Awareness
DESCRIPTION:Our ICS/OT Cyber Security Awareness course is held in the first week of the month. The course is delivered online or on-site (for on-site course delivery\, kindly contact us for special arrangements).  \nICS/OT Cyber Security Awareness course is the starting milestone in the ICS/OT Cyber Security Assurance journey. Basic course level for all staff\, managers\, leaders\, and personnel in any Critical Infrastructure industry to leverage security awareness and to build the mindset as part of security culture development\, in the ICS/OT domain. \nThe course covers the fundamental understanding and conceptual practice of ICS/OT Cyber Security to build people’s mindsets\, reshape their knowledge\, and develop the security culture within the ICS/OT domain.
URL:https://fedco.co.id/event/ics-ot-cyber-security-awareness-4/
LOCATION:Online Course
CATEGORIES:training
ORGANIZER;CN="Fedco International":MAILTO:fedco@fedco.co.id
END:VEVENT
BEGIN:VEVENT
DTSTART;VALUE=DATE:20260908
DTEND;VALUE=DATE:20260910
DTSTAMP:20260422T010029
CREATED:20260413T091610Z
LAST-MODIFIED:20260413T091610Z
UID:6194-1788825600-1788998399@fedco.co.id
SUMMARY:The Fundamentals of ISA IEC 62443 Course
DESCRIPTION:The ISA/IEC 62443 series is the well-known set of guidelines for the ICS OT cybersecurity standard. The convergence of IT and OT environments increases the cybersecurity threats that can jeopardise the safety operations and business continuity. The ICS OT cybersecurity assurance shall be managed throughout all phases of the facility’s life cycle\, from the design phase to the decommissioning phase. \nThis course provides the fundamental understanding of the ISA/IEC 62443 series in an integrated learning curve\, based on a customised case study\, and provides an in-depth training experience to equip the participant with strong theoretical knowledge and hands-on skills. \nThis 2-day course with 8 core sessions (7 class sessions + 1 workshop session) brings to you the key concepts of the ISA/IEC 62443 integrated with the case study workshop (Risk Assessment using ISA/IEC 624433-2) and introduction to Security Level requirements (based on ISA/IEC 62443-3-3) to enable cybersecurity professionals with the capability to implement certain ISA/IEC 62443 series into their working environment as the role model of ICS OT cybersecurity assurance implementor. \n7 Class Sessions with integrated materials covering the essentials concept of ICS/OT Cybersecurity\, an overview of the ISA/IEC 62443 standard series\, security levels and compliance framework\, developing the ICS/OT cybersecurity program\, and how to perform risk assessment using ISA/IEC 62443. \n1 Workshop Session with a customised case study exploring the actual implementation of Risk Assessment using IEC 62443-3-2\, defining Zone and Conduit\, performing High Level Risk Assessment\, exploring Detailed Risk Assessment with vulnerabilities\, threats\, risk analysis\, and security controls formulation (CRS). \n  \n 
URL:https://fedco.co.id/event/the-fundamentals-of-isa-iec-62443-course/
LOCATION:BSD City\, South Tangerang\, Banten – Indonesia\, South Tangerang\, Banten\, Indonesia
CATEGORIES:training
ORGANIZER;CN="Fedco International":MAILTO:fedco@fedco.co.id
END:VEVENT
BEGIN:VEVENT
DTSTART;VALUE=DATE:20260914
DTEND;VALUE=DATE:20260919
DTSTAMP:20260422T010029
CREATED:20220315T092049Z
LAST-MODIFIED:20260407T045557Z
UID:5315-1789344000-1789775999@fedco.co.id
SUMMARY:ICS Cyber Security Management System
DESCRIPTION:This course covers the fundamental of IT security engineering combined with ICS engineering as the basic approach. The familiarization of cyber security engineering combined with case study analysis and real case examples. At the top-level materials\, the cyber security management system as the core philosophy of having a secure ICS environment will give a deeper understanding of ICS security in the integrated approach. Workshop lab sessions will be held to strengthen the applicable skills and knowledge by practicing the fundamental of Risk Assessment\, Fundamental of Vulnerability Assessment\, System Security Assessment\, and analyzing the security report in order to develop the security strategy program.
URL:https://fedco.co.id/event/ics-cyber-security-management-system-3/
LOCATION:BSD City\, South Tangerang\, Banten – Indonesia\, South Tangerang\, Banten\, Indonesia
CATEGORIES:training
ORGANIZER;CN="Fedco International":MAILTO:fedco@fedco.co.id
END:VEVENT
BEGIN:VEVENT
DTSTART;VALUE=DATE:20260921
DTEND;VALUE=DATE:20260926
DTSTAMP:20260422T010029
CREATED:20220315T093757Z
LAST-MODIFIED:20260407T045545Z
UID:5333-1789948800-1790380799@fedco.co.id
SUMMARY:ICS Cyber Security Assurance
DESCRIPTION:The course integrates the body of knowledge in four disciplines (IT\, ICS\, Cyber Security\, and ICS Cyber Security Engineering) with ICS Cyber Security Risk Assessment and ICS Cyber Security Audit as the Grand Workshop using emulation environment and Testbed in order to bring the new learning experience through Offline or Online Arrangement as part of the professional milestone to develop the next ICS Cyber Security Professional. \n3 Days Class Session with integrated materials to blend the essential knowledge and skills to cover the four major engineering disciplines that build the ICS Cyber Security Assurance (IT\, ICS\, Cyber Security\, and ICS Cyber Security Engineering). \n2 Days LAB and WORKSHOP with DIY LAB on your computing device by using emulated software and VM to build your own assessment object and explore the TESTBED system to complete the WORKSHOP by assessing the real-time Automation Control entities (PLC and remote PLC with Modbus TCP and Serial Communication). \n 
URL:https://fedco.co.id/event/ics-cyber-security-assurance-2/
LOCATION:BSD City\, South Tangerang\, Banten – Indonesia\, South Tangerang\, Banten\, Indonesia
CATEGORIES:training
ORGANIZER;CN="Fedco International":MAILTO:fedco@fedco.co.id
END:VEVENT
BEGIN:VEVENT
DTSTART;VALUE=DATE:20261201
DTEND;VALUE=DATE:20261203
DTSTAMP:20260422T010029
CREATED:20260413T092030Z
LAST-MODIFIED:20260413T093324Z
UID:6196-1796083200-1796255999@fedco.co.id
SUMMARY:The Fundamentals of ISA IEC 62443 Course
DESCRIPTION:The ISA/IEC 62443 series is the well-known set of guidelines for the ICS OT cybersecurity standard. The convergence of IT and OT environments increases the cybersecurity threats that can jeopardise the safety operations and business continuity. The ICS OT cybersecurity assurance shall be managed throughout all phases of the facility’s life cycle\, from the design phase to the decommissioning phase. \nThis course provides the fundamental understanding of the ISA/IEC 62443 series in an integrated learning curve\, based on a customised case study\, and provides an in-depth training experience to equip the participant with strong theoretical knowledge and hands-on skills. \nThis 2-day course with 8 core sessions (7 class sessions + 1 workshop session) brings to you the key concepts of the ISA/IEC 62443 integrated with the case study workshop (Risk Assessment using ISA/IEC 624433-2) and introduction to Security Level requirements (based on ISA/IEC 62443-3-3) to enable cybersecurity professionals with the capability to implement certain ISA/IEC 62443 series into their working environment as the role model of ICS OT cybersecurity assurance implementor. \n7 Class Sessions with integrated materials covering the essentials concept of ICS/OT Cybersecurity\, an overview of the ISA/IEC 62443 standard series\, security levels and compliance framework\, developing the ICS/OT cybersecurity program\, and how to perform risk assessment using ISA/IEC 62443. \n1 Workshop Session with a customised case study exploring the actual implementation of Risk Assessment using IEC 62443-3-2\, defining Zone and Conduit\, performing High Level Risk Assessment\, exploring Detailed Risk Assessment with vulnerabilities\, threats\, risk analysis\, and security controls formulation (CRS). \n  \n 
URL:https://fedco.co.id/event/the-fundamentals-of-isa-iec-62443-and-risk-assessment-workshop-course-3/
LOCATION:BSD City\, South Tangerang\, Banten – Indonesia\, South Tangerang\, Banten\, Indonesia
CATEGORIES:training
ORGANIZER;CN="Fedco International":MAILTO:fedco@fedco.co.id
END:VEVENT
BEGIN:VEVENT
DTSTART;VALUE=DATE:20261130
DTEND;VALUE=DATE:20261201
DTSTAMP:20260422T010029
CREATED:20220315T092912Z
LAST-MODIFIED:20260413T095406Z
UID:5323-1795996800-1796083199@fedco.co.id
SUMMARY:ICS OT Cyber Security Awareness
DESCRIPTION:Our ICS/OT Cyber Security Awareness course is held in the first week of the month. The course is delivered online or on-site (for on-site course delivery\, kindly contact us for special arrangements).  \nICS/OT Cyber Security Awareness course is the starting milestone in the ICS/OT Cyber Security Assurance journey. Basic course level for all staff\, managers\, leaders\, and personnel in any Critical Infrastructure industry to leverage security awareness and to build the mindset as part of security culture development\, in the ICS/OT domain. \nThe course covers the fundamental understanding and conceptual practice of ICS/OT Cyber Security to build people’s mindsets\, reshape their knowledge\, and develop the security culture within the ICS/OT domain.
URL:https://fedco.co.id/event/ics-ot-cyber-security-awareness-5/
LOCATION:Online Course
CATEGORIES:training
ORGANIZER;CN="Fedco International":MAILTO:fedco@fedco.co.id
END:VEVENT
BEGIN:VEVENT
DTSTART;VALUE=DATE:20261207
DTEND;VALUE=DATE:20261212
DTSTAMP:20260422T010029
CREATED:20220315T091943Z
LAST-MODIFIED:20260407T045537Z
UID:5313-1796601600-1797033599@fedco.co.id
SUMMARY:ICS Cyber Security Management System
DESCRIPTION:This course covers the fundamental of IT security engineering combined with ICS engineering as the basic approach. The familiarization of cyber security engineering combined with case study analysis and real case examples. At the top-level materials\, the cyber security management system as the core philosophy of having a secure ICS environment will give a deeper understanding of ICS security in the integrated approach. Workshop lab sessions will be held to strengthen the applicable skills and knowledge by practicing the fundamental of Risk Assessment\, Fundamental of Vulnerability Assessment\, System Security Assessment\, and analyzing the security report in order to develop the security strategy program.
URL:https://fedco.co.id/event/ics-cyber-security-management-system-2/
LOCATION:BSD City\, South Tangerang\, Banten – Indonesia\, South Tangerang\, Banten\, Indonesia
CATEGORIES:training
ORGANIZER;CN="Fedco International":MAILTO:fedco@fedco.co.id
END:VEVENT
BEGIN:VEVENT
DTSTART;VALUE=DATE:20261214
DTEND;VALUE=DATE:20261219
DTSTAMP:20260422T010029
CREATED:20220315T093646Z
LAST-MODIFIED:20260407T045501Z
UID:5331-1797206400-1797638399@fedco.co.id
SUMMARY:ICS Cyber Security Assurance
DESCRIPTION:The course integrates the body of knowledge in four disciplines (IT\, ICS\, Cyber Security\, and ICS Cyber Security Engineering) with ICS Cyber Security Risk Assessment and ICS Cyber Security Audit as the Grand Workshop using emulation environment and Testbed in order to bring the new learning experience through Offline or Online Arrangement as part of the professional milestone to develop the next ICS Cyber Security Professional. \n3 Days Class Session with integrated materials to blend the essential knowledge and skills to cover the four major engineering disciplines that build the ICS Cyber Security Assurance (IT\, ICS\, Cyber Security\, and ICS Cyber Security Engineering). \n2 Days LAB and WORKSHOP with DIY LAB on your computing device by using emulated software and VM to build your own assessment object and explore the TESTBED system to complete the WORKSHOP by assessing the real-time Automation Control entities (PLC and remote PLC with Modbus TCP and Serial Communication). \n 
URL:https://fedco.co.id/event/ics-cyber-security-assurance-4/
LOCATION:BSD City\, South Tangerang\, Banten – Indonesia\, South Tangerang\, Banten\, Indonesia
CATEGORIES:training
ORGANIZER;CN="Fedco International":MAILTO:fedco@fedco.co.id
END:VEVENT
END:VCALENDAR