BEGIN:VCALENDAR
VERSION:2.0
PRODID:-//Fedco International - ECPv6.15.20//NONSGML v1.0//EN
CALSCALE:GREGORIAN
METHOD:PUBLISH
X-WR-CALNAME:Fedco International
X-ORIGINAL-URL:https://fedco.co.id
X-WR-CALDESC:Events for Fedco International
REFRESH-INTERVAL;VALUE=DURATION:PT1H
X-Robots-Tag:noindex
X-PUBLISHED-TTL:PT1H
BEGIN:VTIMEZONE
TZID:UTC
BEGIN:STANDARD
TZOFFSETFROM:+0000
TZOFFSETTO:+0000
TZNAME:UTC
DTSTART:20210101T000000
END:STANDARD
END:VTIMEZONE
BEGIN:VEVENT
DTSTART;VALUE=DATE:20221212
DTEND;VALUE=DATE:20221217
DTSTAMP:20260422T023029
CREATED:20220315T093017Z
LAST-MODIFIED:20220315T093017Z
UID:5325-1670803200-1671235199@fedco.co.id
SUMMARY:VA and PT in ICS Environment
DESCRIPTION:This course covers the fundamentals of ICS cyber security engineering mapped into ICS cyber security management system fundamental concept and its reference model as the essentials of the whole ICS cyber security assurance. Following with the exposure of the ICS cyber security audit and assessment methodology and conceptual understanding with practical exercise to ensure the applicability of the learning process. The Non-Destructive Assessment as the main part of ICS cyber security assessment process will be used as the umbrella of the next activities\, VA and PT. \n\n \nThe Vulnerability Assessment (VA) and Penetration Testing (PT) activities methodology and practical execution (safety compliance assurance) are being introduced as part of the Non-Intrusive Assessment process. \nThe massive workshop and lab case study is part of this course learning process where each participant should be able to perform proper ICS cyber security assessment process by adhering to certain methodology and platforms\, including the execution of VA and PT across the lab session. \nThis course’s final deliverable is the Final Report. Each participant should be able to develop this Final Report by following the proper sequential activities. Risk Register as part of the Final Report will also be the main content of the exposure. \nThe expectation after course completion is to equip the participant with managerial level and technical level of skills set in order to understand\, assess and strategize cyber security assurance across ICS environment under his/her responsibility.
URL:https://fedco.co.id/event/va-and-pt-in-ics-environment-4/
LOCATION:Yogyakarta\, Indonesia\, Yogyakarta\, Indonesia
CATEGORIES:training
ORGANIZER;CN="Fedco International":MAILTO:fedco@fedco.co.id
END:VEVENT
BEGIN:VEVENT
DTSTART;VALUE=DATE:20220613
DTEND;VALUE=DATE:20220618
DTSTAMP:20260422T023029
CREATED:20220315T092628Z
LAST-MODIFIED:20220315T092628Z
UID:5319-1655078400-1655510399@fedco.co.id
SUMMARY:VA and PT in ICS Environment
DESCRIPTION:This course covers the fundamentals of ICS cyber security engineering mapped into ICS cyber security management system fundamental concept and its reference model as the essentials of the whole ICS cyber security assurance. Following with the exposure of the ICS cyber security audit and assessment methodology and conceptual understanding with practical exercise to ensure the applicability of the learning process. The Non-Destructive Assessment as the main part of ICS cyber security assessment process will be used as the umbrella of the next activities\, VA and PT. \n\n \nThe Vulnerability Assessment (VA) and Penetration Testing (PT) activities methodology and practical execution (safety compliance assurance) are being introduced as part of the Non-Intrusive Assessment process. \nThe massive workshop and lab case study is part of this course learning process where each participant should be able to perform proper ICS cyber security assessment process by adhering to certain methodology and platforms\, including the execution of VA and PT across the lab session. \nThis course’s final deliverable is the Final Report. Each participant should be able to develop this Final Report by following the proper sequential activities. Risk Register as part of the Final Report will also be the main content of the exposure. \nThe expectation after course completion is to equip the participant with managerial level and technical level of skills set in order to understand\, assess and strategize cyber security assurance across ICS environment under his/her responsibility.
URL:https://fedco.co.id/event/va-and-pt-in-ics-environment/
LOCATION:Yogyakarta\, Indonesia\, Yogyakarta\, Indonesia
CATEGORIES:training
ORGANIZER;CN="Fedco International":MAILTO:fedco@fedco.co.id
END:VEVENT
END:VCALENDAR